BEGIN:VCALENDAR
VERSION:2.0
PRODID:-//Secoprotec - ECPv6.15.12.2//NONSGML v1.0//EN
CALSCALE:GREGORIAN
METHOD:PUBLISH
X-WR-CALNAME:Secoprotec
X-ORIGINAL-URL:https://secoprotec.com
X-WR-CALDESC:Évènements pour Secoprotec
REFRESH-INTERVAL;VALUE=DURATION:PT1H
X-Robots-Tag:noindex
X-PUBLISHED-TTL:PT1H
BEGIN:VTIMEZONE
TZID:Europe/Paris
BEGIN:DAYLIGHT
TZOFFSETFROM:+0100
TZOFFSETTO:+0200
TZNAME:CEST
DTSTART:20250330T010000
END:DAYLIGHT
BEGIN:STANDARD
TZOFFSETFROM:+0200
TZOFFSETTO:+0100
TZNAME:CET
DTSTART:20251026T010000
END:STANDARD
BEGIN:DAYLIGHT
TZOFFSETFROM:+0100
TZOFFSETTO:+0200
TZNAME:CEST
DTSTART:20260329T010000
END:DAYLIGHT
BEGIN:STANDARD
TZOFFSETFROM:+0200
TZOFFSETTO:+0100
TZNAME:CET
DTSTART:20261025T010000
END:STANDARD
BEGIN:DAYLIGHT
TZOFFSETFROM:+0100
TZOFFSETTO:+0200
TZNAME:CEST
DTSTART:20270328T010000
END:DAYLIGHT
BEGIN:STANDARD
TZOFFSETFROM:+0200
TZOFFSETTO:+0100
TZNAME:CET
DTSTART:20271031T010000
END:STANDARD
END:VTIMEZONE
BEGIN:VEVENT
DTSTART;TZID=Europe/Paris:20260223T090000
DTEND;TZID=Europe/Paris:20260313T170000
DTSTAMP:20260420T210950
CREATED:20250923T105935Z
LAST-MODIFIED:20250923T105935Z
UID:3571-1771837200-1773421200@secoprotec.com
SUMMARY:Module S.S.I.A.P 1
DESCRIPTION:
URL:https://secoprotec.com/event/module-s-s-i-a-p-1/
LOCATION:Lieu :\, 5 rue Frédéric Mistral\, Carcassonne\, 11 000\, France
CATEGORIES:Incendie
ATTACH;FMTTYPE=image/png:https://secoprotec.com/wp-content/uploads/2025/09/S.S.I.A.P-1.png
ORGANIZER;CN="SARL SECOPROTEC":MAILTO:info@secoprotec.com
END:VEVENT
BEGIN:VEVENT
DTSTART;TZID=Europe/Paris:20260303T090000
DTEND;TZID=Europe/Paris:20260304T170000
DTSTAMP:20260420T210950
CREATED:20250923T111311Z
LAST-MODIFIED:20250923T111311Z
UID:3578-1772528400-1772643600@secoprotec.com
SUMMARY:Module Recyclage SSIAP 1
DESCRIPTION:
URL:https://secoprotec.com/event/module-recyclage-ssiap-1/
LOCATION:Lieu :\, 5 rue Frédéric Mistral\, Carcassonne\, 11 000\, France
CATEGORIES:Incendie
ATTACH;FMTTYPE=image/png:https://secoprotec.com/wp-content/uploads/2025/09/Recyclage-SSIAP-1.png
ORGANIZER;CN="SARL SECOPROTEC":MAILTO:info@secoprotec.com
END:VEVENT
BEGIN:VEVENT
DTSTART;TZID=Europe/Paris:20260303T090000
DTEND;TZID=Europe/Paris:20260305T170000
DTSTAMP:20260420T210950
CREATED:20250924T105321Z
LAST-MODIFIED:20250924T105321Z
UID:3652-1772528400-1772730000@secoprotec.com
SUMMARY:Module Remise à niveau SSIAP 1
DESCRIPTION:
URL:https://secoprotec.com/event/module-remise-a-niveau-ssiap-1/
LOCATION:Lieu :\, 5 rue Frédéric Mistral\, Carcassonne\, 11 000\, France
CATEGORIES:Incendie
ATTACH;FMTTYPE=image/png:https://secoprotec.com/wp-content/uploads/2025/09/Recyclage-SSIAP-1.png
ORGANIZER;CN="SARL SECOPROTEC":MAILTO:info@secoprotec.com
END:VEVENT
BEGIN:VEVENT
DTSTART;TZID=Europe/Paris:20260316T090000
DTEND;TZID=Europe/Paris:20260401T170000
DTSTAMP:20260420T210950
CREATED:20250923T112329Z
LAST-MODIFIED:20250923T112329Z
UID:3586-1773651600-1775062800@secoprotec.com
SUMMARY:Module S.S.I.A.P 2
DESCRIPTION:
URL:https://secoprotec.com/event/module-s-s-i-a-p-2/
LOCATION:Lieu :\, 5 rue Frédéric Mistral\, Carcassonne\, 11 000\, France
CATEGORIES:Incendie
ATTACH;FMTTYPE=image/png:https://secoprotec.com/wp-content/uploads/2025/09/S.S.I.A.P-1.png
ORGANIZER;CN="SARL SECOPROTEC":MAILTO:info@secoprotec.com
END:VEVENT
END:VCALENDAR