BEGIN:VCALENDAR
VERSION:2.0
PRODID:-//Secoprotec - ECPv6.15.12.2//NONSGML v1.0//EN
CALSCALE:GREGORIAN
METHOD:PUBLISH
X-ORIGINAL-URL:https://secoprotec.com
X-WR-CALDESC:Évènements pour Secoprotec
REFRESH-INTERVAL;VALUE=DURATION:PT1H
X-Robots-Tag:noindex
X-PUBLISHED-TTL:PT1H
BEGIN:VTIMEZONE
TZID:Europe/Paris
BEGIN:DAYLIGHT
TZOFFSETFROM:+0100
TZOFFSETTO:+0200
TZNAME:CEST
DTSTART:20250330T010000
END:DAYLIGHT
BEGIN:STANDARD
TZOFFSETFROM:+0200
TZOFFSETTO:+0100
TZNAME:CET
DTSTART:20251026T010000
END:STANDARD
BEGIN:DAYLIGHT
TZOFFSETFROM:+0100
TZOFFSETTO:+0200
TZNAME:CEST
DTSTART:20260329T010000
END:DAYLIGHT
BEGIN:STANDARD
TZOFFSETFROM:+0200
TZOFFSETTO:+0100
TZNAME:CET
DTSTART:20261025T010000
END:STANDARD
BEGIN:DAYLIGHT
TZOFFSETFROM:+0100
TZOFFSETTO:+0200
TZNAME:CEST
DTSTART:20270328T010000
END:DAYLIGHT
BEGIN:STANDARD
TZOFFSETFROM:+0200
TZOFFSETTO:+0100
TZNAME:CET
DTSTART:20271031T010000
END:STANDARD
END:VTIMEZONE
BEGIN:VEVENT
DTSTART;TZID=Europe/Paris:20260202T090000
DTEND;TZID=Europe/Paris:20260203T170000
DTSTAMP:20260420T220631
CREATED:20250923T112941Z
LAST-MODIFIED:20250923T114719Z
UID:3588-1770022800-1770138000@secoprotec.com
SUMMARY:Module S.S.T
DESCRIPTION:
URL:https://secoprotec.com/event/module-sst/
LOCATION:Lieu :\, 5 rue Frédéric Mistral\, Carcassonne\, 11 000\, France
CATEGORIES:Secourisme
ATTACH;FMTTYPE=image/png:https://secoprotec.com/wp-content/uploads/2025/09/SST-1.png
ORGANIZER;CN="SARL SECOPROTEC":MAILTO:info@secoprotec.com
END:VEVENT
BEGIN:VEVENT
DTSTART;TZID=Europe/Paris:20260209T090000
DTEND;TZID=Europe/Paris:20260209T170000
DTSTAMP:20260420T220631
CREATED:20250923T115739Z
LAST-MODIFIED:20250923T120014Z
UID:3597-1770627600-1770656400@secoprotec.com
SUMMARY:Module MAC S.S.T
DESCRIPTION:
URL:https://secoprotec.com/event/module-mac-s-s-t-session-1/
LOCATION:Lieu :\, 5 rue Frédéric Mistral\, Carcassonne\, 11 000\, France
CATEGORIES:Secourisme
ATTACH;FMTTYPE=image/png:https://secoprotec.com/wp-content/uploads/2025/09/SST-2.png
ORGANIZER;CN="SARL SECOPROTEC":MAILTO:info@secoprotec.com
END:VEVENT
BEGIN:VEVENT
DTSTART;TZID=Europe/Paris:20260223T090000
DTEND;TZID=Europe/Paris:20260223T170000
DTSTAMP:20260420T220631
CREATED:20250923T120320Z
LAST-MODIFIED:20250923T120320Z
UID:3601-1771837200-1771866000@secoprotec.com
SUMMARY:Module MAC S.S.T
DESCRIPTION:
URL:https://secoprotec.com/event/module-mac-s-s-t-session-2/
LOCATION:Lieu :\, 5 rue Frédéric Mistral\, Carcassonne\, 11 000\, France
CATEGORIES:Secourisme
ATTACH;FMTTYPE=image/png:https://secoprotec.com/wp-content/uploads/2025/09/SST-2.png
ORGANIZER;CN="SARL SECOPROTEC":MAILTO:info@secoprotec.com
END:VEVENT
END:VCALENDAR